BEGIN:VCALENDAR
VERSION:2.0
PRODID:icalendar-ruby
CALSCALE:GREGORIAN
METHOD:PUBLISH
BEGIN:VEVENT
DTSTAMP:20260424T004124Z
UID:42dc3700-e938-4aee-980d-9041657dcad7
DTSTART;VALUE=DATE:20250315
DTEND;VALUE=DATE:20250315
DESCRIPTION:Wild Chile BMX
LOCATION:1600 East Hadley Ave  Las Cruces NM 88001 USA
SUMMARY:Local Race Single
URL:/site/bmx_races/590651
END:VEVENT
END:VCALENDAR
