BEGIN:VCALENDAR
VERSION:2.0
PRODID:icalendar-ruby
CALSCALE:GREGORIAN
METHOD:PUBLISH
BEGIN:VEVENT
DTSTAMP:20260419T153136Z
UID:03e35ce0-7fb4-453e-a2e4-98345fd07c13
DTSTART;VALUE=DATE:20250321
DTEND;VALUE=DATE:20250321
DESCRIPTION:VMP BMX
LOCATION:8018 Boydton Plank Road  N Dinwiddie VA 23803 USA
SUMMARY:Local Race Single
URL:/site/bmx_races/590692
END:VEVENT
END:VCALENDAR
