BEGIN:VCALENDAR
VERSION:2.0
PRODID:icalendar-ruby
CALSCALE:GREGORIAN
METHOD:PUBLISH
BEGIN:VEVENT
DTSTAMP:20260419T125106Z
UID:b094f4a4-116e-4ba7-b143-95d6ec76a08b
DTSTART;VALUE=DATE:20250416
DTEND;VALUE=DATE:20250416
DESCRIPTION:Charlotte BMX
LOCATION:2505 Carmalita St  Punta Gorda FL 33950 USA
SUMMARY:Local Race Single
URL:/site/bmx_races/590820
END:VEVENT
END:VCALENDAR
