BEGIN:VCALENDAR
VERSION:2.0
PRODID:icalendar-ruby
CALSCALE:GREGORIAN
METHOD:PUBLISH
BEGIN:VEVENT
DTSTAMP:20260422T132205Z
UID:03e407a9-afea-4203-b5b0-5926e416316c
DTSTART;VALUE=DATE:20250413
DTEND;VALUE=DATE:20250413
DESCRIPTION:Southwest Wyoming Indoor BMX
LOCATION:3320 Yellowstone Road  Rock Springs WY 82901 USA
SUMMARY:Gold Cup Qualifier Triple
URL:/site/bmx_races/590833
END:VEVENT
END:VCALENDAR
