BEGIN:VCALENDAR
VERSION:2.0
PRODID:icalendar-ruby
CALSCALE:GREGORIAN
METHOD:PUBLISH
BEGIN:VEVENT
DTSTAMP:20260419T182531Z
UID:adf6a1bd-7efc-40bc-878a-4995cfb28536
DTSTART;VALUE=DATE:20250419
DTEND;VALUE=DATE:20250419
DESCRIPTION:ORL BMX
LOCATION:4801 W Colonial Dr  Orlando FL 32808 USA
SUMMARY:Local Race Single
URL:/site/bmx_races/590840
END:VEVENT
END:VCALENDAR
