BEGIN:VCALENDAR
VERSION:2.0
PRODID:icalendar-ruby
CALSCALE:GREGORIAN
METHOD:PUBLISH
BEGIN:VEVENT
DTSTAMP:20260419T155436Z
UID:3d0ea494-482a-4321-a48f-c04d2fc95f83
DTSTART;VALUE=DATE:20250427
DTEND;VALUE=DATE:20250427
DESCRIPTION:Richfield Park BMX
LOCATION:6550 N Irish Road  Davison MI 48423 USA
SUMMARY:Local Race Single
URL:/site/bmx_races/590903
END:VEVENT
END:VCALENDAR
