BEGIN:VCALENDAR
VERSION:2.0
PRODID:icalendar-ruby
CALSCALE:GREGORIAN
METHOD:PUBLISH
BEGIN:VEVENT
DTSTAMP:20260420T090043Z
UID:929ed795-d009-422c-87b6-127f3a1028a9
DTSTART;VALUE=DATE:20250429
DTEND;VALUE=DATE:20250429
DESCRIPTION:First State BMX
LOCATION:1045 N Walnut St  Milford DE 19963 USA
SUMMARY:Local Race Single
URL:/site/bmx_races/590924
END:VEVENT
END:VCALENDAR
