BEGIN:VCALENDAR
VERSION:2.0
PRODID:icalendar-ruby
CALSCALE:GREGORIAN
METHOD:PUBLISH
BEGIN:VEVENT
DTSTAMP:20260423T030958Z
UID:395fbb68-135d-4669-83e0-a3b16d181ac4
DTSTART;VALUE=DATE:20250426
DTEND;VALUE=DATE:20250426
DESCRIPTION:Music City BMX Association
LOCATION:2901 Bell Road  Nashville TN 37217 USA
SUMMARY:Local Race Single
URL:/site/bmx_races/590931
END:VEVENT
END:VCALENDAR
