BEGIN:VCALENDAR
VERSION:2.0
PRODID:icalendar-ruby
CALSCALE:GREGORIAN
METHOD:PUBLISH
BEGIN:VEVENT
DTSTAMP:20260419T170710Z
UID:3d3c38b2-8e88-46d7-900b-6c7ac3354f40
DTSTART;VALUE=DATE:20250503
DTEND;VALUE=DATE:20250503
DESCRIPTION:ORL BMX
LOCATION:4801 W Colonial Dr  Orlando FL 32808 USA
SUMMARY:Local Race Single
URL:/site/bmx_races/590974
END:VEVENT
END:VCALENDAR
