BEGIN:VCALENDAR
VERSION:2.0
PRODID:icalendar-ruby
CALSCALE:GREGORIAN
METHOD:PUBLISH
BEGIN:VEVENT
DTSTAMP:20260423T055241Z
UID:e7c618d9-c2d4-4023-ab8c-66faa8746a2f
DTSTART;VALUE=DATE:20250502
DTEND;VALUE=DATE:20250502
DESCRIPTION:Tri-City BMX
LOCATION:520 Burdeck St  Schenectady NY 12306 USA
SUMMARY:Local Race Single
URL:/site/bmx_races/590979
END:VEVENT
END:VCALENDAR
