BEGIN:VCALENDAR
VERSION:2.0
PRODID:icalendar-ruby
CALSCALE:GREGORIAN
METHOD:PUBLISH
BEGIN:VEVENT
DTSTAMP:20260424T094641Z
UID:2d58e157-4d70-4dde-a160-58863bca37aa
DTSTART;VALUE=DATE:20250518
DTEND;VALUE=DATE:20250518
DESCRIPTION:Milton BMX - Track 2000 
LOCATION:Drumquin Park   Britania Road Milton ON L9T 7G6 CAN
SUMMARY:Local Race Single
URL:/site/bmx_races/591093
END:VEVENT
END:VCALENDAR
