BEGIN:VCALENDAR
VERSION:2.0
PRODID:icalendar-ruby
CALSCALE:GREGORIAN
METHOD:PUBLISH
BEGIN:VEVENT
DTSTAMP:20260420T080722Z
UID:30c5ae1a-8248-4499-abdf-e14f2084d725
DTSTART;VALUE=DATE:20250601
DTEND;VALUE=DATE:20250601
DESCRIPTION:Derby City BMX
LOCATION:3000 Freys Hill Rd  Louisville KY 40241 USA
SUMMARY:Local Race Single
URL:/site/bmx_races/591231
END:VEVENT
END:VCALENDAR
