BEGIN:VCALENDAR
VERSION:2.0
PRODID:icalendar-ruby
CALSCALE:GREGORIAN
METHOD:PUBLISH
BEGIN:VEVENT
DTSTAMP:20260424T073940Z
UID:cc0d071d-5a69-4ef0-8029-0a6fb4253788
DTSTART;VALUE=DATE:20250602
DTEND;VALUE=DATE:20250602
DESCRIPTION:River Valley BMX
LOCATION:7800 Riverside Rd E  Sumner WA 98360 USA
SUMMARY:Local Race Single
URL:/site/bmx_races/591239
END:VEVENT
END:VCALENDAR
