BEGIN:VCALENDAR
VERSION:2.0
PRODID:icalendar-ruby
CALSCALE:GREGORIAN
METHOD:PUBLISH
BEGIN:VEVENT
DTSTAMP:20260423T011358Z
UID:4e0422fd-0115-4ea2-ad0b-adcbd5675814
DTSTART;VALUE=DATE:20250620
DTEND;VALUE=DATE:20250620
DESCRIPTION:St. Cloud BMX
LOCATION:2401 Peghorn Way  St. Cloud FL 34769 USA
SUMMARY:Local Race Single
URL:/site/bmx_races/591518
END:VEVENT
END:VCALENDAR
