BEGIN:VCALENDAR
VERSION:2.0
PRODID:icalendar-ruby
CALSCALE:GREGORIAN
METHOD:PUBLISH
BEGIN:VEVENT
DTSTAMP:20260423T040828Z
UID:abbb645d-8b17-4aa5-ba2f-188543275531
DTSTART;VALUE=DATE:20250623
DTEND;VALUE=DATE:20250623
DESCRIPTION:Squamish BMX Racing Track
LOCATION:1009 Centennial Way  Squamish BC V0N1T0 CAN
SUMMARY:Local Race Single
URL:/site/bmx_races/591543
END:VEVENT
END:VCALENDAR
