BEGIN:VCALENDAR
VERSION:2.0
PRODID:icalendar-ruby
CALSCALE:GREGORIAN
METHOD:PUBLISH
BEGIN:VEVENT
DTSTAMP:20260419T131305Z
UID:289de096-089b-4b50-8be7-c971177104b9
DTSTART;VALUE=DATE:20250626
DTEND;VALUE=DATE:20250626
DESCRIPTION:Cactus Park BMX
LOCATION:10610 Ashwood St  Lakeside CA 92040 USA
SUMMARY:Local Race Single
URL:/site/bmx_races/591583
END:VEVENT
END:VCALENDAR
