BEGIN:VCALENDAR
VERSION:2.0
PRODID:icalendar-ruby
CALSCALE:GREGORIAN
METHOD:PUBLISH
BEGIN:VEVENT
DTSTAMP:20260424T024644Z
UID:4f1c822c-fa40-4972-bab2-69136f4541b6
DTSTART;VALUE=DATE:20250715
DTEND;VALUE=DATE:20250715
DESCRIPTION:Vernon BMX
LOCATION:Ranger Park 1900 47th Ave  Vernon BC V1T 8X4 CAN
SUMMARY:Earned Double
URL:/site/bmx_races/591864
END:VEVENT
END:VCALENDAR
