BEGIN:VCALENDAR
VERSION:2.0
PRODID:icalendar-ruby
CALSCALE:GREGORIAN
METHOD:PUBLISH
BEGIN:VEVENT
DTSTAMP:20260421T010211Z
UID:d8487831-a516-4f00-907d-019e81bdd43a
DTSTART;VALUE=DATE:20250815
DTEND;VALUE=DATE:20250815
DESCRIPTION:Spokes BMX
LOCATION: 2550 W Bennett  Springfield MO 65807 USA
SUMMARY:Local Race Single
URL:/site/bmx_races/592349
END:VEVENT
END:VCALENDAR
