BEGIN:VCALENDAR
VERSION:2.0
PRODID:icalendar-ruby
CALSCALE:GREGORIAN
METHOD:PUBLISH
BEGIN:VEVENT
DTSTAMP:20260424T004058Z
UID:00f96234-a5df-42a2-84a0-a776e69b65ae
DTSTART;VALUE=DATE:20250812
DTEND;VALUE=DATE:20250812
DESCRIPTION:Apple Valley BMX Moto Park
LOCATION:24320 Highway 18  Apple Valley CA 92307 USA
SUMMARY:Local Race Single
URL:/site/bmx_races/592402
END:VEVENT
END:VCALENDAR
