BEGIN:VCALENDAR
VERSION:2.0
PRODID:icalendar-ruby
CALSCALE:GREGORIAN
METHOD:PUBLISH
BEGIN:VEVENT
DTSTAMP:20260422T012009Z
UID:309aad9b-e732-4fb5-af60-ff16effa74ec
DTSTART;VALUE=DATE:20250813
DTEND;VALUE=DATE:20250813
DESCRIPTION:Grand Forks BMX
LOCATION:Kettle River Dr & 7th St  Grand Forks BC V0H1H0 CAN
SUMMARY:Local Race Single
URL:/site/bmx_races/592423
END:VEVENT
END:VCALENDAR
