BEGIN:VCALENDAR
VERSION:2.0
PRODID:icalendar-ruby
CALSCALE:GREGORIAN
METHOD:PUBLISH
BEGIN:VEVENT
DTSTAMP:20260424T122320Z
UID:ed37f46f-b799-4549-bfbe-4f243140ae59
DTSTART;VALUE=DATE:20250921
DTEND;VALUE=DATE:20250921
DESCRIPTION:Yucaipa BMX
LOCATION:32750 Thunderbird Way  Yucaipa CA 92399 USA
SUMMARY:Warnicke Double
URL:/site/bmx_races/592970
END:VEVENT
END:VCALENDAR
