BEGIN:VCALENDAR
VERSION:2.0
PRODID:icalendar-ruby
CALSCALE:GREGORIAN
METHOD:PUBLISH
BEGIN:VEVENT
DTSTAMP:20260421T044427Z
UID:69d9d6af-86c4-4356-af34-993ebce97c99
DTSTART;VALUE=DATE:20130731
DTEND;VALUE=DATE:20130731
DESCRIPTION:Fernley BMX
LOCATION:212 Mull Ln  Fernley NV 89408 USA
SUMMARY:Practice
URL:/site/bmx_races/59302
END:VEVENT
END:VCALENDAR
