BEGIN:VCALENDAR
VERSION:2.0
PRODID:icalendar-ruby
CALSCALE:GREGORIAN
METHOD:PUBLISH
BEGIN:VEVENT
DTSTAMP:20260423T112732Z
UID:9aa78434-176f-4807-a2a0-c8170b7b4f4d
DTSTART;VALUE=DATE:20250927
DTEND;VALUE=DATE:20250927
DESCRIPTION:Chehalem Valley BMX
LOCATION:1201 Blaine St  Newberg OR 97132 USA
SUMMARY:Earned Double
URL:/site/bmx_races/593102
END:VEVENT
END:VCALENDAR
