BEGIN:VCALENDAR
VERSION:2.0
PRODID:icalendar-ruby
CALSCALE:GREGORIAN
METHOD:PUBLISH
BEGIN:VEVENT
DTSTAMP:20260419T225755Z
UID:9bd5e389-6a43-49c1-8fe4-ef83ab433676
DTSTART;VALUE=DATE:20251025
DTEND;VALUE=DATE:20251025
DESCRIPTION:First State BMX
LOCATION:1045 N Walnut St  Milford DE 19963 USA
SUMMARY:Local Race Single
URL:/site/bmx_races/593428
END:VEVENT
END:VCALENDAR
