BEGIN:VCALENDAR
VERSION:2.0
PRODID:icalendar-ruby
CALSCALE:GREGORIAN
METHOD:PUBLISH
BEGIN:VEVENT
DTSTAMP:20260423T080554Z
UID:f901661d-7a6b-4c0e-aec8-c674574a0c74
DTSTART;VALUE=DATE:20251030
DTEND;VALUE=DATE:20251030
DESCRIPTION:Freedom Park BMX Raceway
LOCATION:530 Convair St  Camarillo CA 93010 USA
SUMMARY:Earned Double
URL:/site/bmx_races/593500
END:VEVENT
END:VCALENDAR
