BEGIN:VCALENDAR
VERSION:2.0
PRODID:icalendar-ruby
CALSCALE:GREGORIAN
METHOD:PUBLISH
BEGIN:VEVENT
DTSTAMP:20260423T224222Z
UID:b08b3d03-bfb8-4204-844b-8616f96351bb
DTSTART;VALUE=DATE:20251101
DTEND;VALUE=DATE:20251101
DESCRIPTION:Emery Park BMX
LOCATION:2339 E Mac Arthur Rd  Wichita KS 67216 USA
SUMMARY:Warnicke Double
URL:/site/bmx_races/593508
END:VEVENT
END:VCALENDAR
