BEGIN:VCALENDAR
VERSION:2.0
PRODID:icalendar-ruby
CALSCALE:GREGORIAN
METHOD:PUBLISH
BEGIN:VEVENT
DTSTAMP:20260420T001535Z
UID:36348a8d-94fc-42e9-87ea-091cdc758e2d
DTSTART;VALUE=DATE:20251210
DTEND;VALUE=DATE:20251210
DESCRIPTION:Rock Island Indoor BMX
LOCATION:2621 4th Ave  Rock Island IL 61201 USA
SUMMARY:Local Race Single
URL:/site/bmx_races/593892
END:VEVENT
END:VCALENDAR
