BEGIN:VCALENDAR
VERSION:2.0
PRODID:icalendar-ruby
CALSCALE:GREGORIAN
METHOD:PUBLISH
BEGIN:VEVENT
DTSTAMP:20260419T170744Z
UID:2acb18ab-ebe0-41a7-b548-2d6ca2e7eab5
DTSTART;VALUE=DATE:20251214
DTEND;VALUE=DATE:20251214
DESCRIPTION:Lake Havasu City BMX
LOCATION:7260 Mc Culloch Blvd S. #B  Lake Havasu City AZ 86406 USA
SUMMARY:Local Race Single
URL:/site/bmx_races/593925
END:VEVENT
END:VCALENDAR
