BEGIN:VCALENDAR
VERSION:2.0
PRODID:icalendar-ruby
CALSCALE:GREGORIAN
METHOD:PUBLISH
BEGIN:VEVENT
DTSTAMP:20260423T043144Z
UID:e98b4b63-059d-4ecf-b6f8-19b35fbeffae
DTSTART;VALUE=DATE:20260207
DTEND;VALUE=DATE:20260207
DESCRIPTION:West Texas BMX
LOCATION:2101 E Cuthbert  Midland TX 79706 USA
SUMMARY:Local Race Single
URL:/site/bmx_races/594529
END:VEVENT
END:VCALENDAR
