BEGIN:VCALENDAR
VERSION:2.0
PRODID:icalendar-ruby
CALSCALE:GREGORIAN
METHOD:PUBLISH
BEGIN:VEVENT
DTSTAMP:20260424T112206Z
UID:00778f0b-7371-490f-a2cb-3c2746114041
DTSTART;VALUE=DATE:20260205
DTEND;VALUE=DATE:20260205
DESCRIPTION:Lone Star BMX
LOCATION:3950 Eisenhauer Rd  San Antonio TX 78218 USA
SUMMARY:Local Race Single
URL:/site/bmx_races/594639
END:VEVENT
END:VCALENDAR
