BEGIN:VCALENDAR
VERSION:2.0
PRODID:icalendar-ruby
CALSCALE:GREGORIAN
METHOD:PUBLISH
BEGIN:VEVENT
DTSTAMP:20260419T142345Z
UID:83c46837-0708-4e3c-8ba7-7724b59b0b1a
DTSTART;VALUE=DATE:20260214
DTEND;VALUE=DATE:20260214
DESCRIPTION:Steel Wheels Indoor BMX
LOCATION:709 N Hobart Rd  Hobart IN 46350 USA
SUMMARY:Local Race Single
URL:/site/bmx_races/594649
END:VEVENT
END:VCALENDAR
