BEGIN:VCALENDAR
VERSION:2.0
PRODID:icalendar-ruby
CALSCALE:GREGORIAN
METHOD:PUBLISH
BEGIN:VEVENT
DTSTAMP:20260423T143755Z
UID:6e6fb422-90dd-4f0d-b777-6bd337f9ed57
DTSTART;VALUE=DATE:20260215
DTEND;VALUE=DATE:20260215
DESCRIPTION:Woodward Park BMX
LOCATION:7775 N Friant Rd  Fresno CA 93720 USA
SUMMARY:Local Race Single
URL:/site/bmx_races/594675
END:VEVENT
END:VCALENDAR
