BEGIN:VCALENDAR
VERSION:2.0
PRODID:icalendar-ruby
CALSCALE:GREGORIAN
METHOD:PUBLISH
BEGIN:VEVENT
DTSTAMP:20260420T161332Z
UID:bd1a51bc-f0c2-48d4-a017-efa750813a06
DTSTART;VALUE=DATE:20260212
DTEND;VALUE=DATE:20260212
DESCRIPTION:High Springs BMX
LOCATION:  High Springs FL 32028 USA
SUMMARY:Local Race Single
URL:/site/bmx_races/594676
END:VEVENT
END:VCALENDAR
