BEGIN:VCALENDAR
VERSION:2.0
PRODID:icalendar-ruby
CALSCALE:GREGORIAN
METHOD:PUBLISH
BEGIN:VEVENT
DTSTAMP:20260419T172954Z
UID:0e63d912-4dcc-44df-bfe3-9402eba02d38
DTSTART;VALUE=DATE:20260220
DTEND;VALUE=DATE:20260220
DESCRIPTION:Boulder BMX\, Inc
LOCATION:1799 Commons Way  Boulder City NV 89005 USA
SUMMARY:Local Race Single
URL:/site/bmx_races/594764
END:VEVENT
END:VCALENDAR
