BEGIN:VCALENDAR
VERSION:2.0
PRODID:icalendar-ruby
CALSCALE:GREGORIAN
METHOD:PUBLISH
BEGIN:VEVENT
DTSTAMP:20260420T161253Z
UID:478a9d91-757c-4f14-a2f1-653be0f48952
DTSTART;VALUE=DATE:20260216
DTEND;VALUE=DATE:20260216
DESCRIPTION:High Springs BMX
LOCATION:  High Springs FL 32028 USA
SUMMARY:Local Race Single
URL:/site/bmx_races/594778
END:VEVENT
END:VCALENDAR
