BEGIN:VCALENDAR
VERSION:2.0
PRODID:icalendar-ruby
CALSCALE:GREGORIAN
METHOD:PUBLISH
BEGIN:VEVENT
DTSTAMP:20260423T214204Z
UID:eaa69128-7229-4f96-b794-f810faa56c6f
DTSTART;VALUE=DATE:20260303
DTEND;VALUE=DATE:20260303
DESCRIPTION:Gretna BMX Raceway
LOCATION:800 Gretna Blvd  Gretna LA 70053 USA
SUMMARY:Local Race Single
URL:/site/bmx_races/594905
END:VEVENT
END:VCALENDAR
