BEGIN:VCALENDAR
VERSION:2.0
PRODID:icalendar-ruby
CALSCALE:GREGORIAN
METHOD:PUBLISH
BEGIN:VEVENT
DTSTAMP:20260425T004953Z
UID:a727e649-ea1d-4767-bfec-8d613056bef1
DTSTART;VALUE=DATE:20260308
DTEND;VALUE=DATE:20260308
DESCRIPTION:Desert Downs BMX
LOCATION:8801 Railroad  El Paso TX 79924 USA
SUMMARY:Local Race Single
URL:/site/bmx_races/594951
END:VEVENT
END:VCALENDAR
