BEGIN:VCALENDAR
VERSION:2.0
PRODID:icalendar-ruby
CALSCALE:GREGORIAN
METHOD:PUBLISH
BEGIN:VEVENT
DTSTAMP:20260423T193740Z
UID:25b489fc-23d3-485a-9b99-b69b06ae597c
DTSTART;VALUE=DATE:20260404
DTEND;VALUE=DATE:20260404
DESCRIPTION:Deseret Peak Indoor BMX
LOCATION:2930 West Hwy 112  TOOELE UT 84074 USA
SUMMARY:Warnicke Double
URL:/site/bmx_races/595625
END:VEVENT
END:VCALENDAR
