BEGIN:VCALENDAR
VERSION:2.0
PRODID:icalendar-ruby
CALSCALE:GREGORIAN
METHOD:PUBLISH
BEGIN:VEVENT
DTSTAMP:20260419T135358Z
UID:7da412ea-cbfa-4562-ad02-b081c9cd9e58
DTSTART;VALUE=DATE:20260411
DTEND;VALUE=DATE:20260411
DESCRIPTION:Rum River BMX
LOCATION:Isanti Parkway Northwest  Isanti MN 55040 USA
SUMMARY:Local Race Single
URL:/site/bmx_races/595662
END:VEVENT
END:VCALENDAR
