BEGIN:VCALENDAR
VERSION:2.0
PRODID:icalendar-ruby
CALSCALE:GREGORIAN
METHOD:PUBLISH
BEGIN:VEVENT
DTSTAMP:20260419T162500Z
UID:88a0f90d-dcae-4bd4-969b-318d1653d033
DTSTART;VALUE=DATE:20260409
DTEND;VALUE=DATE:20260409
DESCRIPTION:Sun City BMX
LOCATION:650 Wallenburg  El Paso TX 79912 USA
SUMMARY:Local Race Single
URL:/site/bmx_races/595711
END:VEVENT
END:VCALENDAR
