BEGIN:VCALENDAR
VERSION:2.0
PRODID:icalendar-ruby
CALSCALE:GREGORIAN
METHOD:PUBLISH
BEGIN:VEVENT
DTSTAMP:20260422T132621Z
UID:3f990fbe-80ec-4417-a618-3eb8da76ca78
DTSTART;VALUE=DATE:20260403
DTEND;VALUE=DATE:20260403
DESCRIPTION:Wild Chile BMX
LOCATION:1600 East Hadley Ave  Las Cruces NM 88001 USA
SUMMARY:Local Race Single
URL:/site/bmx_races/595744
END:VEVENT
END:VCALENDAR
