BEGIN:VCALENDAR
VERSION:2.0
PRODID:icalendar-ruby
CALSCALE:GREGORIAN
METHOD:PUBLISH
BEGIN:VEVENT
DTSTAMP:20260424T031444Z
UID:c8378a1f-e9da-4ff8-82ed-9dcd44f4dcb1
DTSTART;VALUE=DATE:20260414
DTEND;VALUE=DATE:20260414
DESCRIPTION:Miami South BMX
LOCATION:13050 Sw 216th Street  Miami FL 33170 USA
SUMMARY:Local Race Single
URL:/site/bmx_races/595800
END:VEVENT
END:VCALENDAR
