BEGIN:VCALENDAR
VERSION:2.0
PRODID:icalendar-ruby
CALSCALE:GREGORIAN
METHOD:PUBLISH
BEGIN:VEVENT
DTSTAMP:20260419T121653Z
UID:e4c1127e-6f24-4941-85cb-cf9dc9cab3b9
DTSTART;VALUE=DATE:20260413
DTEND;VALUE=DATE:20260413
DESCRIPTION:Ancient City BMX
LOCATION:3005 Alan Nease Rd  St Augustine FL 32033 USA
SUMMARY:Local Race Single
URL:/site/bmx_races/595829
END:VEVENT
END:VCALENDAR
