BEGIN:VCALENDAR
VERSION:2.0
PRODID:icalendar-ruby
CALSCALE:GREGORIAN
METHOD:PUBLISH
BEGIN:VEVENT
DTSTAMP:20260419T141310Z
UID:8d188e85-a9a8-4d5a-98f8-ac404a5d6834
DTSTART;VALUE=DATE:20260416
DTEND;VALUE=DATE:20260416
DESCRIPTION:Cape Coral BMX
LOCATION:1410 Sw 6th Place  Cape Coral FL 33991 USA
SUMMARY:Local Race Single
URL:/site/bmx_races/595831
END:VEVENT
END:VCALENDAR
