BEGIN:VCALENDAR
VERSION:2.0
PRODID:icalendar-ruby
CALSCALE:GREGORIAN
METHOD:PUBLISH
BEGIN:VEVENT
DTSTAMP:20260422T090742Z
UID:752f0dbf-8013-4626-9bdc-ca02189b3503
DTSTART;VALUE=DATE:20260419
DTEND;VALUE=DATE:20260419
DESCRIPTION:Derby City BMX
LOCATION:3000 Freys Hill Rd  Louisville KY 40241 USA
SUMMARY:Local Race Single
URL:/site/bmx_races/595913
END:VEVENT
END:VCALENDAR
