BEGIN:VCALENDAR
VERSION:2.0
PRODID:icalendar-ruby
CALSCALE:GREGORIAN
METHOD:PUBLISH
BEGIN:VEVENT
DTSTAMP:20260423T150824Z
UID:82b1b1a3-21b9-4a49-b79f-518ba7d0bd86
DTSTART;VALUE=DATE:20260418
DTEND;VALUE=DATE:20260418
DESCRIPTION:Lexington BMX
LOCATION:1159 Nazareth Road  Lexington SC 29073 USA
SUMMARY:Local Race Single
URL:/site/bmx_races/595919
END:VEVENT
END:VCALENDAR
