BEGIN:VCALENDAR
VERSION:2.0
PRODID:icalendar-ruby
CALSCALE:GREGORIAN
METHOD:PUBLISH
BEGIN:VEVENT
DTSTAMP:20260423T161733Z
UID:f22adc3d-adda-4767-a898-3699fda5cc8a
DTSTART;VALUE=DATE:20260410
DTEND;VALUE=DATE:20260410
DESCRIPTION:Tucson BMX
LOCATION:9245 E Irvington  Tucson AZ 85730 USA
SUMMARY:Race for Life Single
URL:/site/bmx_races/595962
END:VEVENT
END:VCALENDAR
