BEGIN:VCALENDAR
VERSION:2.0
PRODID:icalendar-ruby
CALSCALE:GREGORIAN
METHOD:PUBLISH
BEGIN:VEVENT
DTSTAMP:20260423T231856Z
UID:2b903b40-60f9-40b4-a067-c49c557d5c9b
DTSTART;VALUE=DATE:20260410
DTEND;VALUE=DATE:20260410
DESCRIPTION:Wild Chile BMX
LOCATION:1600 East Hadley Ave  Las Cruces NM 88001 USA
SUMMARY:Local Race Single
URL:/site/bmx_races/595976
END:VEVENT
END:VCALENDAR
