BEGIN:VCALENDAR
VERSION:2.0
PRODID:icalendar-ruby
CALSCALE:GREGORIAN
METHOD:PUBLISH
BEGIN:VEVENT
DTSTAMP:20260424T121433Z
UID:ce50d769-e17c-4849-b031-e85b5a2396b2
DTSTART;VALUE=DATE:20260422
DTEND;VALUE=DATE:20260422
DESCRIPTION:Grand Prix BMX at SoCal Fair
LOCATION:18700 Lake Perris Dr  Perris CA 92571 USA
SUMMARY:Local Race Single
URL:/site/bmx_races/595993
END:VEVENT
END:VCALENDAR
