BEGIN:VCALENDAR
VERSION:2.0
PRODID:icalendar-ruby
CALSCALE:GREGORIAN
METHOD:PUBLISH
BEGIN:VEVENT
DTSTAMP:20260423T111708Z
UID:99313642-7927-431e-92c7-9424da8120dc
DTSTART;VALUE=DATE:20130513
DTEND;VALUE=DATE:20130513
DESCRIPTION:Fastrax BMX
LOCATION:2800 S 12th St  Bismarck ND 58504 USA
SUMMARY:Practice
URL:/site/bmx_races/59670
END:VEVENT
END:VCALENDAR
